BEGIN:VCALENDAR
VERSION:2.0
PRODID:-//Library Market//iCal Export//EN
BEGIN:VEVENT
SUMMARY:Porch Fest Kickoff Concert: J. Brittany and Mitch Weiss Band
UID:106367
DTSTAMP:20260423T121600Z
DTSTART:20260516T160000Z
DTEND:20260516T200000Z
LOCATION:111 West Park Ave, Long Beach, NY 11561, United States
ROOM: Auditorium
DESCRIPTION:PorchFest Kickoff Concert sponsored by Artists in PartnershipN
 oon-1pm   J. Brittany   Jazz &amp; Blues      1-2pm    Mitch Weiss
  Band   Jazz, Blues, Soul &amp; FunkPorchFest 2026 Merch will be availab
 le!
URL:https://longbeachpl.librarycalendar.com/event/cabaret-106367
END:VEVENT
END:VCALENDAR
