BEGIN:VCALENDAR
VERSION:2.0
PRODID:-//Library Market//iCal Export//EN
BEGIN:VEVENT
SUMMARY:Pajama Storytime
UID:121865
DTSTAMP:20260426T034700Z
DTSTART:20260715T221500Z
DTEND:20260715T224500Z
LOCATION:111 West Park Ave, Long Beach, NY 11561, United States
ROOM: Youth Services Program Space
DESCRIPTION:Get ready for bedtime with Miss Janet! Enjoy a few themed stor
 ies and take home an activity to do before bed.  
URL:https://longbeachpl.librarycalendar.com/event/pajama-storytime-121865
END:VEVENT
END:VCALENDAR
