BEGIN:VCALENDAR
VERSION:2.0
PRODID:-//Library Market//iCal Export//EN
BEGIN:VEVENT
SUMMARY:Chess Club
UID:87056
DTSTAMP:20260421T170000Z
DTSTART:20260528T223000Z
DTEND:20260528T233000Z
LOCATION:111 West Park Ave, Long Beach, NY 11561, United States
ROOM: 2nd Floor Program Room
DESCRIPTION:Love chess? Want to learn how to play?  Come join our Chess C
 lub for children in the 2nd grade and above.  Play against each other and
  instructor Chess Master Joel Salman.
URL:https://longbeachpl.librarycalendar.com/event/chess-club-87056
END:VEVENT
END:VCALENDAR
