BEGIN:VCALENDAR
VERSION:2.0
PRODID:-//Library Market//iCal Export//EN
BEGIN:VEVENT
SUMMARY:LBPL Scribblers Writers Workshop
UID:99743
DTSTAMP:20260423T121600Z
DTSTART:20260516T170000Z
DTEND:20260516T190000Z
LOCATION:111 West Park Ave, Long Beach, NY 11561, United States
ROOM: 1st Floor Program Room
DESCRIPTION:Please join creative writing instructor and published author M
 arc DeSantis for this interactive writing program. Bring writing materials
  and works in progress.
URL:https://longbeachpl.librarycalendar.com/event/lbpl-scribblers-writers-
 workshop-99743
END:VEVENT
END:VCALENDAR
